BEGIN:VCALENDAR
PRODID:-//eluceo/ical//2.0/EN
VERSION:2.0
CALSCALE:GREGORIAN
BEGIN:VEVENT
UID:45a83b3bf36c301a58bf40df817b9b65
DTSTAMP:20260420T085728Z
SUMMARY:Conférence Les Risques du Frelon Asiatique
DESCRIPTION:Speaker(s): Guy-Jean BERNARD
URL:https://beaumont-erquelinnes.rotary2150.org/en/agenda/show/97451
DTSTART;TZID=Europe/Zurich:20260507T190000
DTEND;TZID=Europe/Zurich:20260507T220000
LOCATION:Centre Culturel de/à Beaumont\, rue de la Déportation\, 24\, 650
 0 BEAUMONT\, Belgique
CATEGORIES:Rotary
END:VEVENT
BEGIN:VTIMEZONE
TZID:Europe/Zurich
BEGIN:DAYLIGHT
DTSTART:20260507T190000
TZNAME:CEST
TZOFFSETTO:+0200
TZOFFSETFROM:+0200
END:DAYLIGHT
END:VTIMEZONE
END:VCALENDAR
